BEGIN:VCALENDAR
VERSION:2.0
PRODID:-//ChamberMaster//Event Calendar 2.0//EN
METHOD:PUBLISH
X-PUBLISHED-TTL:P3D
REFRESH-INTERVAL:P3D
CALSCALE:GREGORIAN
BEGIN:VEVENT
DTSTART:20080314T164500Z
DTEND:20080314T180000Z
X-MICROSOFT-CDO-ALLDAYEVENT:FALSE
SUMMARY:WISE - March
DESCRIPTION:Speaker Avis Schorer\, World War II combat nurse and author
X-ALT-DESC;FMTTYPE=text/html:Speaker Avis Schorer\, World War II combat nurse and author
LOCATION:Le Bourget Aero Suites
UID:e.1654.309046
SEQUENCE:3
DTSTAMP:20260419T192014Z
URL:https://www.edinachamber.com/events/details/wise-march-03-14-2008-309046
END:VEVENT

END:VCALENDAR
