BEGIN:VCALENDAR
VERSION:2.0
PRODID:-//ChamberMaster//Event Calendar 2.0//EN
METHOD:PUBLISH
X-PUBLISHED-TTL:P3D
REFRESH-INTERVAL:P3D
CALSCALE:GREGORIAN
BEGIN:VEVENT
DTSTART:20080111T174500Z
DTEND:20080111T190000Z
X-MICROSOFT-CDO-ALLDAYEVENT:FALSE
SUMMARY:WISE\, January
DESCRIPTION:Speed Networking
X-ALT-DESC;FMTTYPE=text/html:Speed Networking
LOCATION:Sofitel Minneapolis
UID:e.1654.304844
SEQUENCE:3
DTSTAMP:20260419T161342Z
URL:https://www.edinachamber.com/events/details/wise-january-01-11-2008-304844
END:VEVENT

END:VCALENDAR
