BEGIN:VCALENDAR
VERSION:2.0
PRODID:-//ChamberMaster//Event Calendar 2.0//EN
METHOD:PUBLISH
X-PUBLISHED-TTL:P3D
REFRESH-INTERVAL:P3D
CALSCALE:GREGORIAN
BEGIN:VEVENT
DTSTART:20080509T123000Z
DTEND:20080509T140000Z
X-MICROSOFT-CDO-ALLDAYEVENT:FALSE
SUMMARY:WISE - Fairview Southdale Hospital
DESCRIPTION:
X-ALT-DESC;FMTTYPE=text/html:
LOCATION:
UID:e.1654.312315
SEQUENCE:3
DTSTAMP:20260420T000809Z
URL:https://www.edinachamber.com/events/details/wise-fairview-southdale-hospital-05-09-2008-312315
END:VEVENT

END:VCALENDAR
