BEGIN:VCALENDAR
VERSION:2.0
PRODID:-//ChamberMaster//Event Calendar 2.0//EN
METHOD:PUBLISH
X-PUBLISHED-TTL:P3D
REFRESH-INTERVAL:P3D
CALSCALE:GREGORIAN
BEGIN:VEVENT
DTSTART:20080613T164500Z
DTEND:20080613T180000Z
X-MICROSOFT-CDO-ALLDAYEVENT:FALSE
SUMMARY:WISE - Edina Country Club
DESCRIPTION:
X-ALT-DESC;FMTTYPE=text/html:
LOCATION:Edina Country Club
UID:e.1654.315410
SEQUENCE:3
DTSTAMP:20260420T014452Z
URL:https://www.edinachamber.com/events/details/wise-edina-country-club-06-13-2008-315410
END:VEVENT

END:VCALENDAR
