BEGIN:VCALENDAR
VERSION:2.0
PRODID:-//ChamberMaster//Event Calendar 2.0//EN
METHOD:PUBLISH
X-PUBLISHED-TTL:P3D
REFRESH-INTERVAL:P3D
CALSCALE:GREGORIAN
BEGIN:VEVENT
DTSTART:20080808T164500Z
DTEND:20080808T180000Z
X-MICROSOFT-CDO-ALLDAYEVENT:FALSE
SUMMARY:WISE - August Centennial Lakes
DESCRIPTION:
X-ALT-DESC;FMTTYPE=text/html:
LOCATION:
UID:e.1654.318321
SEQUENCE:3
DTSTAMP:20260420T030540Z
URL:https://www.edinachamber.com/events/details/wise-august-centennial-lakes-08-08-2008-318321
END:VEVENT

END:VCALENDAR
