BEGIN:VCALENDAR
VERSION:2.0
PRODID:-//ChamberMaster//Event Calendar 2.0//EN
METHOD:PUBLISH
X-PUBLISHED-TTL:P3D
REFRESH-INTERVAL:P3D
CALSCALE:GREGORIAN
BEGIN:VEVENT
DTSTART:20071108T174500Z
DTEND:20071108T190000Z
X-MICROSOFT-CDO-ALLDAYEVENT:FALSE
SUMMARY:Tomorrow's Leaders
DESCRIPTION:Networking - Kathleen Watson
X-ALT-DESC;FMTTYPE=text/html:Networking - Kathleen Watson
LOCATION:Countrywide Home Loans
UID:e.1654.300923
SEQUENCE:3
DTSTAMP:20260419T133633Z
URL:https://www.edinachamber.com/events/details/tomorrow-s-leaders-11-08-2007-300923
END:VEVENT

END:VCALENDAR
