BEGIN:VCALENDAR
VERSION:2.0
PRODID:-//ChamberMaster//Event Calendar 2.0//EN
METHOD:PUBLISH
X-PUBLISHED-TTL:P3D
REFRESH-INTERVAL:P3D
CALSCALE:GREGORIAN
BEGIN:VEVENT
DTSTART:20071011T163000Z
DTEND:20071011T180000Z
X-MICROSOFT-CDO-ALLDAYEVENT:FALSE
SUMMARY:Tomorrow's Leaders
DESCRIPTION:Cindy Storrs--Evergreen Strategies\, a business coach\, will be speaking.
X-ALT-DESC;FMTTYPE=text/html:Cindy Storrs--Evergreen Strategies\, a business coach\, will be speaking.
LOCATION:Countrywide Home Loans - RJ Lang's Office
UID:e.1654.296059
SEQUENCE:3
DTSTAMP:20260419T133726Z
URL:https://www.edinachamber.com/events/details/tomorrow-s-leaders-10-11-2007-296059
END:VEVENT

END:VCALENDAR
