BEGIN:VCALENDAR
VERSION:2.0
PRODID:-//ChamberMaster//Event Calendar 2.0//EN
METHOD:PUBLISH
X-PUBLISHED-TTL:P3D
REFRESH-INTERVAL:P3D
CALSCALE:GREGORIAN
BEGIN:VEVENT
DTSTART:20080918T223000Z
DTEND:20080919T013000Z
X-MICROSOFT-CDO-ALLDAYEVENT:FALSE
SUMMARY:September Tomorrow's Leaders - Crowne Plaza
DESCRIPTION:
X-ALT-DESC;FMTTYPE=text/html:
LOCATION:Crowne Plaza Hotel 5401 Green Valley Drive Bloomington
UID:e.1654.321382
SEQUENCE:3
DTSTAMP:20260420T044239Z
URL:https://www.edinachamber.com/events/details/september-tomorrow-s-leaders-crowne-plaza-09-18-2008-321382
END:VEVENT

END:VCALENDAR
