BEGIN:VCALENDAR
VERSION:2.0
PRODID:-//ChamberMaster//Event Calendar 2.0//EN
METHOD:PUBLISH
X-PUBLISHED-TTL:P3D
REFRESH-INTERVAL:P3D
CALSCALE:GREGORIAN
BEGIN:VEVENT
DTSTART:20080905T123000Z
DTEND:20080905T140000Z
X-MICROSOFT-CDO-ALLDAYEVENT:FALSE
SUMMARY:September AYBB - Bremer
DESCRIPTION:
X-ALT-DESC;FMTTYPE=text/html:
LOCATION:Bremer Bank
UID:e.1654.321372
SEQUENCE:3
DTSTAMP:20260420T060839Z
URL:https://www.edinachamber.com/events/details/september-aybb-bremer-09-05-2008-321372
END:VEVENT

END:VCALENDAR
