BEGIN:VCALENDAR
VERSION:2.0
PRODID:-//ChamberMaster//Event Calendar 2.0//EN
METHOD:PUBLISH
X-PUBLISHED-TTL:P3D
REFRESH-INTERVAL:P3D
CALSCALE:GREGORIAN
BEGIN:VEVENT
DTSTART:20080918T213000Z
DTEND:20080918T233000Z
X-MICROSOFT-CDO-ALLDAYEVENT:FALSE
SUMMARY:September After Hours - Good Earth
DESCRIPTION:
X-ALT-DESC;FMTTYPE=text/html:
LOCATION:Good Earth
UID:e.1654.321384
SEQUENCE:3
DTSTAMP:20260420T044050Z
URL:https://www.edinachamber.com/events/details/september-after-hours-good-earth-09-18-2008-321384
END:VEVENT

END:VCALENDAR
