BEGIN:VCALENDAR
VERSION:2.0
PRODID:-//ChamberMaster//Event Calendar 2.0//EN
METHOD:PUBLISH
X-PUBLISHED-TTL:P3D
REFRESH-INTERVAL:P3D
CALSCALE:GREGORIAN
BEGIN:VEVENT
DTSTART:20080916T124500Z
DTEND:20080916T140000Z
X-MICROSOFT-CDO-ALLDAYEVENT:FALSE
SUMMARY:Sept 2008 NMO
DESCRIPTION:
X-ALT-DESC;FMTTYPE=text/html:
LOCATION:
UID:e.1654.321626
SEQUENCE:3
DTSTAMP:20260420T043911Z
URL:https://www.edinachamber.com/events/details/sept-2008-nmo-09-16-2008-321626
END:VEVENT

END:VCALENDAR
