BEGIN:VCALENDAR
VERSION:2.0
PRODID:-//ChamberMaster//Event Calendar 2.0//EN
METHOD:PUBLISH
X-PUBLISHED-TTL:P3D
REFRESH-INTERVAL:P3D
CALSCALE:GREGORIAN
BEGIN:VEVENT
DTSTART:20081010T164500Z
DTEND:20081010T180000Z
X-MICROSOFT-CDO-ALLDAYEVENT:FALSE
SUMMARY:October - WISE
DESCRIPTION:
X-ALT-DESC;FMTTYPE=text/html:
LOCATION:Via Cafe & Bar
UID:e.1654.324675
SEQUENCE:3
DTSTAMP:20260420T074349Z
URL:https://www.edinachamber.com/events/details/october-wise-10-10-2008-324675
END:VEVENT

END:VCALENDAR
