BEGIN:VCALENDAR
VERSION:2.0
PRODID:-//ChamberMaster//Event Calendar 2.0//EN
METHOD:PUBLISH
X-PUBLISHED-TTL:P3D
REFRESH-INTERVAL:P3D
CALSCALE:GREGORIAN
BEGIN:VEVENT
DTSTART:20081022T163000Z
DTEND:20081022T180000Z
X-MICROSOFT-CDO-ALLDAYEVENT:FALSE
SUMMARY:October - General Memebrship Meeting
DESCRIPTION:
X-ALT-DESC;FMTTYPE=text/html:
LOCATION:ICC
UID:e.1654.324676
SEQUENCE:3
DTSTAMP:20260420T074640Z
URL:https://www.edinachamber.com/events/details/october-general-memebrship-meeting-10-22-2008-324676
END:VEVENT

END:VCALENDAR
