BEGIN:VCALENDAR
VERSION:2.0
PRODID:-//ChamberMaster//Event Calendar 2.0//EN
METHOD:PUBLISH
X-PUBLISHED-TTL:P3D
REFRESH-INTERVAL:P3D
CALSCALE:GREGORIAN
BEGIN:VEVENT
DTSTART:20081003T123000Z
DTEND:20081003T140000Z
X-MICROSOFT-CDO-ALLDAYEVENT:FALSE
SUMMARY:October - AYBB
DESCRIPTION:
X-ALT-DESC;FMTTYPE=text/html:
LOCATION:MN Bank & Trust
UID:e.1654.324674
SEQUENCE:3
DTSTAMP:20260420T061401Z
URL:https://www.edinachamber.com/events/details/october-aybb-10-03-2008-324674
END:VEVENT

END:VCALENDAR
