BEGIN:VCALENDAR
VERSION:2.0
PRODID:-//ChamberMaster//Event Calendar 2.0//EN
METHOD:PUBLISH
X-PUBLISHED-TTL:P3D
REFRESH-INTERVAL:P3D
CALSCALE:GREGORIAN
BEGIN:VEVENT
DTSTART:20081117T133000Z
DTEND:20081117T150000Z
X-MICROSOFT-CDO-ALLDAYEVENT:FALSE
SUMMARY:November General Membership Meeting Interlach
DESCRIPTION:
X-ALT-DESC;FMTTYPE=text/html:
LOCATION:
UID:e.1654.327757
SEQUENCE:3
DTSTAMP:20260420T074808Z
URL:https://www.edinachamber.com/events/details/november-general-membership-meeting-interlach-11-17-2008-327757
END:VEVENT

END:VCALENDAR
