BEGIN:VCALENDAR
VERSION:2.0
PRODID:-//ChamberMaster//Event Calendar 2.0//EN
METHOD:PUBLISH
X-PUBLISHED-TTL:P3D
REFRESH-INTERVAL:P3D
CALSCALE:GREGORIAN
BEGIN:VEVENT
DTSTART:20081120T103000Z
DTEND:20081120T123000Z
X-MICROSOFT-CDO-ALLDAYEVENT:FALSE
SUMMARY:November After Hours D'Amico & Sons
DESCRIPTION:
X-ALT-DESC;FMTTYPE=text/html:
LOCATION:
UID:e.1654.327759
SEQUENCE:3
DTSTAMP:20260420T074841Z
URL:https://www.edinachamber.com/events/details/november-after-hours-d-amico-sons-11-20-2008-327759
END:VEVENT

END:VCALENDAR
