BEGIN:VCALENDAR
VERSION:2.0
PRODID:-//ChamberMaster//Event Calendar 2.0//EN
METHOD:PUBLISH
X-PUBLISHED-TTL:P3D
REFRESH-INTERVAL:P3D
CALSCALE:GREGORIAN
BEGIN:VEVENT
DTSTART:20081023T213000Z
DTEND:20081023T233000Z
X-MICROSOFT-CDO-ALLDAYEVENT:FALSE
SUMMARY:Member Apprecaition/ After Hours
DESCRIPTION:
X-ALT-DESC;FMTTYPE=text/html:
LOCATION:ECC
UID:e.1654.324677
SEQUENCE:3
DTSTAMP:20260420T062227Z
URL:https://www.edinachamber.com/events/details/member-apprecaition-after-hours-10-23-2008-324677
END:VEVENT

END:VCALENDAR
