BEGIN:VCALENDAR
VERSION:2.0
PRODID:-//ChamberMaster//Event Calendar 2.0//EN
METHOD:PUBLISH
X-PUBLISHED-TTL:P3D
REFRESH-INTERVAL:P3D
CALSCALE:GREGORIAN
BEGIN:VEVENT
DTSTART:20080227T171500Z
DTEND:20080227T190000Z
X-MICROSOFT-CDO-ALLDAYEVENT:FALSE
SUMMARY:General Membership Meeting - State of the City
DESCRIPTION:Mayor Hovland's State of the City address
X-ALT-DESC;FMTTYPE=text/html:Mayor Hovland's State of the City address
LOCATION:Edinborough Park
UID:e.1654.306809
SEQUENCE:3
DTSTAMP:20260419T175709Z
URL:https://www.edinachamber.com/events/details/general-membership-meeting-state-of-the-city-02-27-2008-306809
END:VEVENT

END:VCALENDAR
