BEGIN:VCALENDAR
VERSION:2.0
PRODID:-//ChamberMaster//Event Calendar 2.0//EN
METHOD:PUBLISH
X-PUBLISHED-TTL:P3D
REFRESH-INTERVAL:P3D
CALSCALE:GREGORIAN
BEGIN:VEVENT
DTSTART:20080326T163000Z
DTEND:20080326T180000Z
X-MICROSOFT-CDO-ALLDAYEVENT:FALSE
SUMMARY:General Membership Meeting - March
DESCRIPTION:Michelle Tafoya - ESPN's NFL "Monday Night Football" sideline reporter.
X-ALT-DESC;FMTTYPE=text/html:Michelle Tafoya - ESPN's NFL "Monday Night Football" sideline reporter.
LOCATION:Interlachen Country Club
UID:e.1654.309055
SEQUENCE:3
DTSTAMP:20260419T192334Z
URL:https://www.edinachamber.com/events/details/general-membership-meeting-march-03-26-2008-309055
END:VEVENT

END:VCALENDAR
