BEGIN:VCALENDAR
VERSION:2.0
PRODID:-//ChamberMaster//Event Calendar 2.0//EN
METHOD:PUBLISH
X-PUBLISHED-TTL:P3D
REFRESH-INTERVAL:P3D
CALSCALE:GREGORIAN
BEGIN:VEVENT
DTSTART:20080123T173000Z
DTEND:20080123T190000Z
X-MICROSOFT-CDO-ALLDAYEVENT:FALSE
SUMMARY:General Membership Meeting\, January
DESCRIPTION:St. Paul Winter Carnival
X-ALT-DESC;FMTTYPE=text/html:St. Paul Winter Carnival
LOCATION:Interlachen Country Club
UID:e.1654.304866
SEQUENCE:3
DTSTAMP:20260419T161818Z
URL:https://www.edinachamber.com/events/details/general-membership-meeting-january-01-23-2008-304866
END:VEVENT

END:VCALENDAR
