BEGIN:VCALENDAR
VERSION:2.0
PRODID:-//ChamberMaster//Event Calendar 2.0//EN
METHOD:PUBLISH
X-PUBLISHED-TTL:P3D
REFRESH-INTERVAL:P3D
CALSCALE:GREGORIAN
BEGIN:VEVENT
DTSTART:20080423T163000Z
DTEND:20080423T180000Z
X-MICROSOFT-CDO-ALLDAYEVENT:FALSE
SUMMARY:General Membership Meeting - April
DESCRIPTION:RBC Wealth Management speaker
X-ALT-DESC;FMTTYPE=text/html:RBC Wealth Management speaker
LOCATION:Interlachen Country Club
UID:e.1654.310886
SEQUENCE:3
DTSTAMP:20260419T205725Z
URL:https://www.edinachamber.com/events/details/general-membership-meeting-april-04-23-2008-310886
END:VEVENT

END:VCALENDAR
