BEGIN:VCALENDAR
VERSION:2.0
PRODID:-//ChamberMaster//Event Calendar 2.0//EN
METHOD:PUBLISH
X-PUBLISHED-TTL:P3D
REFRESH-INTERVAL:P3D
CALSCALE:GREGORIAN
BEGIN:VEVENT
DTSTART:20071219T173000Z
DTEND:20071219T190000Z
X-MICROSOFT-CDO-ALLDAYEVENT:FALSE
SUMMARY:General Membership Meeting
DESCRIPTION:
X-ALT-DESC;FMTTYPE=text/html:
LOCATION:Interlachen Country Club
UID:e.1654.302796
SEQUENCE:3
DTSTAMP:20260419T145135Z
URL:https://www.edinachamber.com/events/details/general-membership-meeting-12-19-2007-302796
END:VEVENT

END:VCALENDAR
