BEGIN:VCALENDAR
VERSION:2.0
PRODID:-//ChamberMaster//Event Calendar 2.0//EN
METHOD:PUBLISH
X-PUBLISHED-TTL:P3D
REFRESH-INTERVAL:P3D
CALSCALE:GREGORIAN
BEGIN:VEVENT
DTSTART:20071017T163000Z
DTEND:20071017T180000Z
X-MICROSOFT-CDO-ALLDAYEVENT:FALSE
SUMMARY:General Membership Meeting
DESCRIPTION:Speaker: Cyndi Lesher\, 2008 Republican National Convention
X-ALT-DESC;FMTTYPE=text/html:Speaker: Cyndi Lesher\, 2008 Republican National Convention
LOCATION:Interlachen Country Club
UID:e.1654.296092
SEQUENCE:3
DTSTAMP:20260419T115915Z
URL:https://www.edinachamber.com/events/details/general-membership-meeting-10-17-2007-296092
END:VEVENT

END:VCALENDAR
