BEGIN:VCALENDAR
VERSION:2.0
PRODID:-//ChamberMaster//Event Calendar 2.0//EN
METHOD:PUBLISH
X-PUBLISHED-TTL:P3D
REFRESH-INTERVAL:P3D
CALSCALE:GREGORIAN
BEGIN:VEVENT
DTSTART;VALUE=DATE:20080207
DTEND;VALUE=DATE:20080208
TRANSP:TRANSPARENT
X-MICROSOFT-CDO-ALLDAYEVENT:TRUE
SUMMARY:Emerald GALA\, 2009
DESCRIPTION:
X-ALT-DESC;FMTTYPE=text/html:
LOCATION:
UID:e.1654.332940
SEQUENCE:3
DTSTAMP:20260419T175007Z
URL:https://www.edinachamber.com/events/details/emerald-gala-2009-02-07-2008-332940
END:VEVENT

END:VCALENDAR
