BEGIN:VCALENDAR
VERSION:2.0
PRODID:-//ChamberMaster//Event Calendar 2.0//EN
METHOD:PUBLISH
X-PUBLISHED-TTL:P3D
REFRESH-INTERVAL:P3D
CALSCALE:GREGORIAN
BEGIN:VEVENT
DTSTART:20080606T123000Z
DTEND:20080606T140000Z
X-MICROSOFT-CDO-ALLDAYEVENT:FALSE
SUMMARY:AYBB - TRIA
DESCRIPTION:
X-ALT-DESC;FMTTYPE=text/html:
LOCATION:TRIA
UID:e.1654.315400
SEQUENCE:3
DTSTAMP:20260420T000135Z
URL:https://www.edinachamber.com/events/details/aybb-tria-06-06-2008-315400
END:VEVENT

END:VCALENDAR
