BEGIN:VCALENDAR
VERSION:2.0
PRODID:-//ChamberMaster//Event Calendar 2.0//EN
METHOD:PUBLISH
X-PUBLISHED-TTL:P3D
REFRESH-INTERVAL:P3D
CALSCALE:GREGORIAN
BEGIN:VEVENT
DTSTART:20080404T123000Z
DTEND:20080404T140000Z
X-MICROSOFT-CDO-ALLDAYEVENT:FALSE
SUMMARY:At Your Business Break - Twill
DESCRIPTION:
X-ALT-DESC;FMTTYPE=text/html:
LOCATION:Twill
UID:e.1654.310877
SEQUENCE:3
DTSTAMP:20260419T210010Z
URL:https://www.edinachamber.com/events/details/at-your-business-break-twill-04-04-2008-310877
END:VEVENT

END:VCALENDAR
