BEGIN:VCALENDAR
VERSION:2.0
PRODID:-//ChamberMaster//Event Calendar 2.0//EN
METHOD:PUBLISH
X-PUBLISHED-TTL:P3D
REFRESH-INTERVAL:P3D
CALSCALE:GREGORIAN
BEGIN:VEVENT
DTSTART:20080515T213000Z
DTEND:20080515T213000Z
X-MICROSOFT-CDO-ALLDAYEVENT:FALSE
SUMMARY:After Hours - Sofitel Minneapolis
DESCRIPTION:
X-ALT-DESC;FMTTYPE=text/html:
LOCATION:Sofitel Minneapolis
UID:e.1654.312607
SEQUENCE:3
DTSTAMP:20260419T223438Z
URL:https://www.edinachamber.com/events/details/after-hours-sofitel-minneapolis-05-15-2008-312607
END:VEVENT

END:VCALENDAR
