BEGIN:VCALENDAR
VERSION:2.0
PRODID:-//ChamberMaster//Event Calendar 2.0//EN
METHOD:PUBLISH
X-PUBLISHED-TTL:P3D
REFRESH-INTERVAL:P3D
CALSCALE:GREGORIAN
BEGIN:VEVENT
DTSTART:20080320T213000Z
DTEND:20080320T233000Z
X-MICROSOFT-CDO-ALLDAYEVENT:FALSE
SUMMARY:After Hours - March - VIA
DESCRIPTION:Networking
X-ALT-DESC;FMTTYPE=text/html:Networking
LOCATION:VIA Cafe
UID:e.1654.309051
SEQUENCE:3
DTSTAMP:20260419T192313Z
URL:https://www.edinachamber.com/events/details/after-hours-march-via-03-20-2008-309051
END:VEVENT

END:VCALENDAR
